BEGIN:VCALENDAR
VERSION:2.0
PRODID:-//InfoAge Science and History Museums - ECPv6.15.20//NONSGML v1.0//EN
CALSCALE:GREGORIAN
METHOD:PUBLISH
X-ORIGINAL-URL:https://www.infoage.org
X-WR-CALDESC:Events for InfoAge Science and History Museums
REFRESH-INTERVAL;VALUE=DURATION:PT1H
X-Robots-Tag:noindex
X-PUBLISHED-TTL:PT1H
BEGIN:VTIMEZONE
TZID:America/Halifax
BEGIN:DAYLIGHT
TZOFFSETFROM:-0400
TZOFFSETTO:-0300
TZNAME:ADT
DTSTART:20240310T060000
END:DAYLIGHT
BEGIN:STANDARD
TZOFFSETFROM:-0300
TZOFFSETTO:-0400
TZNAME:AST
DTSTART:20241103T050000
END:STANDARD
BEGIN:DAYLIGHT
TZOFFSETFROM:-0400
TZOFFSETTO:-0300
TZNAME:ADT
DTSTART:20250309T060000
END:DAYLIGHT
BEGIN:STANDARD
TZOFFSETFROM:-0300
TZOFFSETTO:-0400
TZNAME:AST
DTSTART:20251102T050000
END:STANDARD
BEGIN:DAYLIGHT
TZOFFSETFROM:-0400
TZOFFSETTO:-0300
TZNAME:ADT
DTSTART:20260308T060000
END:DAYLIGHT
BEGIN:STANDARD
TZOFFSETFROM:-0300
TZOFFSETTO:-0400
TZNAME:AST
DTSTART:20261101T050000
END:STANDARD
END:VTIMEZONE
BEGIN:VEVENT
DTSTART;TZID=America/Halifax:20250727T140000
DTEND;TZID=America/Halifax:20250727T150000
DTSTAMP:20260422T160949
CREATED:20250727T024047Z
LAST-MODIFIED:20250727T024230Z
UID:5213-1753624800-1753628400@www.infoage.org
SUMMARY:How do they know that about space?
DESCRIPTION:“How do they know that about space?”\n \nPresented by NASA Ambassador Frank O’Brien \nSunday July 27th\, 2025\n2:00 PM \nInfoAge Space Exploration Center and Observatory\n2300 Marconi Road\nWall\, NJ 07719 \nEvery day\, we are treated with amazing reports of discoveries in space. We know about the makeup of planets and comets\, distances to the stars and galaxies\, and even the crops on Earth without ever needing to visit them. Just *how* do we know this? In most cases\, the concepts are decades if not hundreds of years old\, but only now has technology allowed us to measure things in great detail. \nThis will be a hands-on\, interactive talk targeted for middle school and above students. We will leverage topics taught in those grades to explain how we can know so much about places we’ve never been. And we will answer the common question\, “Why are you weightless in space? What you will learn will surprise and delight you..
URL:https://www.infoage.org/event/how-do-they-know-that-about-space/
LOCATION:ISEC\, 2300 Marconi Road\, Wall Township\, 07719\, United States
END:VEVENT
END:VCALENDAR