BEGIN:VCALENDAR
VERSION:2.0
PRODID:-//InfoAge Science and History Museums - ECPv6.15.20//NONSGML v1.0//EN
CALSCALE:GREGORIAN
METHOD:PUBLISH
X-WR-CALNAME:InfoAge Science and History Museums
X-ORIGINAL-URL:https://www.infoage.org
X-WR-CALDESC:Events for InfoAge Science and History Museums
REFRESH-INTERVAL;VALUE=DURATION:PT1H
X-Robots-Tag:noindex
X-PUBLISHED-TTL:PT1H
BEGIN:VTIMEZONE
TZID:Asia/Karachi
BEGIN:STANDARD
TZOFFSETFROM:+0500
TZOFFSETTO:+0500
TZNAME:PKT
DTSTART:20220101T000000
END:STANDARD
END:VTIMEZONE
BEGIN:VEVENT
DTSTART;TZID=Asia/Karachi:20231104T140000
DTEND;TZID=Asia/Karachi:20231104T160000
DTSTAMP:20260426T002534
CREATED:20231103T021018Z
LAST-MODIFIED:20231103T021018Z
UID:4654-1699106400-1699113600@www.infoage.org
SUMMARY:Iron Dome\, Iron Beam\, and Hamas
DESCRIPTION:Iron Dome\, Iron Beam\, and Hamas\nInfoAge\, Marconi Hotel Lounge 2201 Maroni Road\, Wall\, NJ 07719 \nThe lecture will cover the recent operation\, strengths\, and weaknesses of the short range Israeli Air Defense Systems. Iron Beam is designed to destroy short-range rockets\, artillery\, and mortar bombs complementing the Iron Dome system which was designed to intercept missiles launched from a greater distance. \nAdvanced registration is not required. \nProceeds to benefit ongoing programing InfoAge as well as the development of the new International Electronic Warfare and Radar exhibition. \nAdmission $20*\n*Includes admission to all InfoAge displays and museums.
URL:https://www.infoage.org/event/iron-dome-iron-beam-and-hamas/
LOCATION:InfoAge Lounge – Main Building\, 2201 Marconi Road\, Wall\, 07719\, United States
ATTACH;FMTTYPE=image/jpeg:https://www.infoage.org/wp-content/uploads/2023/11/lecture_iron_dome_hero1.jpg
END:VEVENT
BEGIN:VEVENT
DTSTART;TZID=Asia/Karachi:20231118T140000
DTEND;TZID=Asia/Karachi:20231118T150000
DTSTAMP:20260426T002534
CREATED:20231103T021245Z
LAST-MODIFIED:20231103T021245Z
UID:4656-1700316000-1700319600@www.infoage.org
SUMMARY:WWI - WAR TO END ALL WARS
DESCRIPTION:The Military Technology Museum of New Jersey\nPresents\nWWI\nWAR TO END ALL WARS\nJeff Brown\, noted History Teacher\, Collector and Orator from Southern Regional High School\, will be presenting a novel in depth look at the soldier’s experience in the trenches of WWI. \nAssisting him will be Cal from the military Technology Museum of NJ with presentations of early 20th century biological warfare artifacts. \nThe event will have a dressed WWI soldier along with many actual items used during the “WAR TO END ALL WARS” \n  \nSaturday November 18\, 2023\n2201 Marconi Road\, Wall\, New Jersey\n2 p.m. – 3 p.m.\nat the\nInfoAge Science and History Museums\n@Camp Evans National Historic Landmark\nNew Jersey’s WW II Living Memorial \n  \n\nAdmission is $12 for adults; Children 12 and under $8.00\nIncludes Admission to All Museums\nInfoAge is a 501C3 nonprofit. Contributions are tax deductible to the extent permitted by law.\n\n 
URL:https://www.infoage.org/event/wwi-war-to-end-all-wars/
LOCATION:InfoAge Lounge – Main Building\, 2201 Marconi Road\, Wall\, 07719\, United States
ATTACH;FMTTYPE=image/jpeg:https://www.infoage.org/wp-content/uploads/2023/11/lecture_ww1_hero1.jpg
END:VEVENT
END:VCALENDAR