BEGIN:VCALENDAR
VERSION:2.0
PRODID:-//InfoAge Science and History Museums - ECPv6.15.20//NONSGML v1.0//EN
CALSCALE:GREGORIAN
METHOD:PUBLISH
X-WR-CALNAME:InfoAge Science and History Museums
X-ORIGINAL-URL:https://www.infoage.org
X-WR-CALDESC:Events for InfoAge Science and History Museums
REFRESH-INTERVAL;VALUE=DURATION:PT1H
X-Robots-Tag:noindex
X-PUBLISHED-TTL:PT1H
BEGIN:VTIMEZONE
TZID:Asia/Karachi
BEGIN:STANDARD
TZOFFSETFROM:+0500
TZOFFSETTO:+0500
TZNAME:PKT
DTSTART:20250101T000000
END:STANDARD
END:VTIMEZONE
BEGIN:VEVENT
DTSTART;TZID=Asia/Karachi:20260720T090000
DTEND;TZID=Asia/Karachi:20260724T150000
DTSTAMP:20260422T060224
CREATED:20231228T015753Z
LAST-MODIFIED:20260219T155522Z
UID:4766-1784538000-1784905200@www.infoage.org
SUMMARY:Space Exploration Week 2026
DESCRIPTION:InfoAge’s Amazing Summer Camp Program\nJuly 20-24\, 2026 | 9am – 3pm\nAges 11-14\n$250 per child\, $200 for additional siblings\nYour adventure begins at the InfoAge Space Exploration Center (ISEC)\, home of the 100 foot radar antenna dish. For five days you’ll explore the vast expanse of the cosmos\, engage in hands-on activities\, and collaborate with fellow young explorers-in-training. \nGet ready to ignite your imagination\, fuel your curiosity\, and discover the endless possibilities of the universe.\nRegister online and reserve your seats today at https://www.infoage.org/space-week
URL:https://www.infoage.org/event/space-week/
LOCATION:NJ
ATTACH;FMTTYPE=image/png:https://www.infoage.org/wp-content/uploads/2023/12/ia_spaceweek-2024-hero-v2.png
END:VEVENT
END:VCALENDAR