BEGIN:VCALENDAR
VERSION:2.0
PRODID:-//InfoAge Science and History Museums - ECPv6.15.20//NONSGML v1.0//EN
CALSCALE:GREGORIAN
METHOD:PUBLISH
X-WR-CALNAME:InfoAge Science and History Museums
X-ORIGINAL-URL:https://www.infoage.org
X-WR-CALDESC:Events for InfoAge Science and History Museums
REFRESH-INTERVAL;VALUE=DURATION:PT1H
X-Robots-Tag:noindex
X-PUBLISHED-TTL:PT1H
BEGIN:VTIMEZONE
TZID:America/New_York
BEGIN:DAYLIGHT
TZOFFSETFROM:-0500
TZOFFSETTO:-0400
TZNAME:EDT
DTSTART:20250309T070000
END:DAYLIGHT
BEGIN:STANDARD
TZOFFSETFROM:-0400
TZOFFSETTO:-0500
TZNAME:EST
DTSTART:20251102T060000
END:STANDARD
BEGIN:DAYLIGHT
TZOFFSETFROM:-0500
TZOFFSETTO:-0400
TZNAME:EDT
DTSTART:20260308T070000
END:DAYLIGHT
BEGIN:STANDARD
TZOFFSETFROM:-0400
TZOFFSETTO:-0500
TZNAME:EST
DTSTART:20261101T060000
END:STANDARD
BEGIN:DAYLIGHT
TZOFFSETFROM:-0500
TZOFFSETTO:-0400
TZNAME:EDT
DTSTART:20270314T070000
END:DAYLIGHT
BEGIN:STANDARD
TZOFFSETFROM:-0400
TZOFFSETTO:-0500
TZNAME:EST
DTSTART:20271107T060000
END:STANDARD
END:VTIMEZONE
BEGIN:VEVENT
DTSTART;TZID=America/New_York:20260117T120000
DTEND;TZID=America/New_York:20260207T170000
DTSTAMP:20260422T075708
CREATED:20251221T214850Z
LAST-MODIFIED:20260114T215352Z
UID:5471-1768651200-1770483600@www.infoage.org
SUMMARY:Model Train Exhibit (Raritan Valley Hi-Railers)
DESCRIPTION:Did you miss our Holiday Train Show?\nCome see the Raritan Valley Hi–Railers extravaganza from Jan. 17 to Feb. 7!!!\nThe Hi–Railers will be showcasing a 20’ x 60’ modular O Scale railroad featuring a 4-track mainline with a multitude of operational industries and buildings and thousands of lights.\nIn addition\, stop by the model train museum (Garden State Central) HO Railroad\, an S Scale modular railroad\, and our hands-on Lionel layout.\n 
URL:https://www.infoage.org/event/model-train-exhibit-raritan-valley-hi-railers/
LOCATION:9032-A\, 2201 Marconi Road\, Wall\, NJ\, 07719\, United States
END:VEVENT
END:VCALENDAR