BEGIN:VCALENDAR
VERSION:2.0
PRODID:-//InfoAge Science and History Museums - ECPv6.15.20//NONSGML v1.0//EN
CALSCALE:GREGORIAN
METHOD:PUBLISH
X-ORIGINAL-URL:https://www.infoage.org
X-WR-CALDESC:Events for InfoAge Science and History Museums
REFRESH-INTERVAL;VALUE=DURATION:PT1H
X-Robots-Tag:noindex
X-PUBLISHED-TTL:PT1H
BEGIN:VTIMEZONE
TZID:America/New_York
BEGIN:DAYLIGHT
TZOFFSETFROM:-0500
TZOFFSETTO:-0400
TZNAME:EDT
DTSTART:20240310T070000
END:DAYLIGHT
BEGIN:STANDARD
TZOFFSETFROM:-0400
TZOFFSETTO:-0500
TZNAME:EST
DTSTART:20241103T060000
END:STANDARD
BEGIN:DAYLIGHT
TZOFFSETFROM:-0500
TZOFFSETTO:-0400
TZNAME:EDT
DTSTART:20250309T070000
END:DAYLIGHT
BEGIN:STANDARD
TZOFFSETFROM:-0400
TZOFFSETTO:-0500
TZNAME:EST
DTSTART:20251102T060000
END:STANDARD
BEGIN:DAYLIGHT
TZOFFSETFROM:-0500
TZOFFSETTO:-0400
TZNAME:EDT
DTSTART:20260308T070000
END:DAYLIGHT
BEGIN:STANDARD
TZOFFSETFROM:-0400
TZOFFSETTO:-0500
TZNAME:EST
DTSTART:20261101T060000
END:STANDARD
END:VTIMEZONE
BEGIN:VEVENT
DTSTART;TZID=America/New_York:20250823T110000
DTEND;TZID=America/New_York:20250823T150000
DTSTAMP:20260422T160933
CREATED:20250821T042812Z
LAST-MODIFIED:20250821T051829Z
UID:5263-1755946800-1755961200@www.infoage.org
SUMMARY:Classic Car Show August 23\, 2025
DESCRIPTION:Classic Car Show in front of the Southern Monmouth Fire Museum \n11AM to 3PM\nAt InfoAge Science and History Museums\n2201 Marconi Road\nWall\, NJ \nShow Registration $20 (includes full access to museums)\nOpen to classic Cars & Pickup Trucks\nAll registration proceeds to benefit the Souther Monmouth Fire Museum \nDay of show only!\nWhile supplies last!\nKids 12 and under get a free Hot Wheels\nwith paid general admission to InfoAge Science and History Museums \nGeneral Admission to InfoAge Science and History Museums:\n$12 for ages 13+\, $8 for ages 4-12\, 4 and younger are free\nevansfirestation2@gmail.com
URL:https://www.infoage.org/event/classic-car-show-august-23-2025/
LOCATION:InfoAge Science & History Museums\, 2201 Marconi Road\, Wall\, NJ\, 07719
ORGANIZER;CN="Southern Monmouth Fire Museum":MAILTO:evansfirestation2@gmail.com
END:VEVENT
BEGIN:VEVENT
DTSTART;TZID=America/New_York:20250823T120000
DTEND;TZID=America/New_York:20250823T170000
DTSTAMP:20260422T160933
CREATED:20250821T051645Z
LAST-MODIFIED:20250821T051645Z
UID:5267-1755950400-1755968400@www.infoage.org
SUMMARY:Grand Opening of the Southern Monmouth Fire Museum
DESCRIPTION:August 23\n12PM to 5PM\nInfoAge Science and History Museums\n2201 Marconi Road\nWall\, NJ
URL:https://www.infoage.org/event/grand-opening-of-the-southern-monmouth-fire-museum/
LOCATION:InfoAge Science & History Museums\, 2201 Marconi Road\, Wall\, NJ\, 07719
ORGANIZER;CN="Southern Monmouth Fire Museum":MAILTO:evansfirestation2@gmail.com
END:VEVENT
END:VCALENDAR