BEGIN:VCALENDAR
VERSION:2.0
PRODID:-//InfoAge Science and History Museums - ECPv6.15.20//NONSGML v1.0//EN
CALSCALE:GREGORIAN
METHOD:PUBLISH
X-ORIGINAL-URL:https://www.infoage.org
X-WR-CALDESC:Events for InfoAge Science and History Museums
REFRESH-INTERVAL;VALUE=DURATION:PT1H
X-Robots-Tag:noindex
X-PUBLISHED-TTL:PT1H
BEGIN:VTIMEZONE
TZID:Asia/Karachi
BEGIN:STANDARD
TZOFFSETFROM:+0500
TZOFFSETTO:+0500
TZNAME:PKT
DTSTART:20240101T000000
END:STANDARD
END:VTIMEZONE
BEGIN:VEVENT
DTSTART;VALUE=DATE:20250425
DTEND;VALUE=DATE:20250428
DTSTAMP:20260422T201851
CREATED:20250426T035128Z
LAST-MODIFIED:20250426T035128Z
UID:5130-1745539200-1745798399@www.infoage.org
SUMMARY:Annual International Marconi Day
DESCRIPTION:Live 24 hours each day (or as close to that as we can manage) at the Radio Technology Museum and around the world! \nMore info at https://www.arrl.org/news/international-marconi-day-2024
URL:https://www.infoage.org/event/annual-international-marconi-day/
LOCATION:NJ
END:VEVENT
END:VCALENDAR