BEGIN:VCALENDAR
VERSION:2.0
PRODID:-//InfoAge Science and History Museums - ECPv6.15.20//NONSGML v1.0//EN
CALSCALE:GREGORIAN
METHOD:PUBLISH
X-WR-CALNAME:InfoAge Science and History Museums
X-ORIGINAL-URL:https://www.infoage.org
X-WR-CALDESC:Events for InfoAge Science and History Museums
REFRESH-INTERVAL;VALUE=DURATION:PT1H
X-Robots-Tag:noindex
X-PUBLISHED-TTL:PT1H
BEGIN:VTIMEZONE
TZID:Asia/Karachi
BEGIN:STANDARD
TZOFFSETFROM:+0500
TZOFFSETTO:+0500
TZNAME:PKT
DTSTART:20230101T000000
END:STANDARD
END:VTIMEZONE
BEGIN:VEVENT
DTSTART;TZID=Asia/Karachi:20241111T113000
DTEND;TZID=Asia/Karachi:20241111T133000
DTSTAMP:20260425T093232
CREATED:20241112T030756Z
LAST-MODIFIED:20241112T030756Z
UID:4917-1731324600-1731331800@www.infoage.org
SUMMARY:D-Day - Engineering Contributions
DESCRIPTION:IEEE Life Member Lunch Event: D-Day – Engineering Contributions. \nThe Second Battle of Monmouth – the RADAR War.\nNJ Coast Life Member Lunchtime Talk –  D-Day: Engineering Contributions. The Second Battle of Monmouth – the RADAR war. \nAn ocean away from the beaches of Normandy\, military installations in nearly every shore town contributed secret intelligence\, counter intelligence\, preparations and equipment to the success in Normandy. \nTalk by Fred Carl\, InfoAge Science and History Museums. Lunch included so please register as soon as possible.
URL:https://www.infoage.org/event/d-day-engineering-contributions/
LOCATION:InfoAge Lounge – Main Building\, 2201 Marconi Road\, Wall\, 07719\, United States
ORGANIZER;CN="InfoAge Admins":MAILTO:info@infoage.org
END:VEVENT
END:VCALENDAR