BEGIN:VCALENDAR
VERSION:2.0
PRODID:-//InfoAge Science and History Museums - ECPv6.15.20//NONSGML v1.0//EN
CALSCALE:GREGORIAN
METHOD:PUBLISH
X-ORIGINAL-URL:https://www.infoage.org
X-WR-CALDESC:Events for InfoAge Science and History Museums
REFRESH-INTERVAL;VALUE=DURATION:PT1H
X-Robots-Tag:noindex
X-PUBLISHED-TTL:PT1H
BEGIN:VTIMEZONE
TZID:Asia/Karachi
BEGIN:STANDARD
TZOFFSETFROM:+0500
TZOFFSETTO:+0500
TZNAME:PKT
DTSTART:20230101T000000
END:STANDARD
END:VTIMEZONE
BEGIN:VEVENT
DTSTART;TZID=Asia/Karachi:20240412T090000
DTEND;TZID=Asia/Karachi:20240412T170000
DTSTAMP:20260425T193038
CREATED:20240313T215658Z
LAST-MODIFIED:20240313T220934Z
UID:4873-1712912400-1712941200@www.infoage.org
SUMMARY:Vintage Computer Festival East
DESCRIPTION:Vintage Computer Festival East \n\nDATES:  April 12\, 13\, 14\, 2024 \n\nThe eagerly anticipated Vintage Computer Festival East (VCF East) is set to take place on April 12th\, 13th\, and 14th this year\, promising an immersive dive into the history and evolution of computing. This year’s theme\, “Rise of the GUI” and “Computer Art\,” will explore the transformative journey of graphical user interfaces and the intersection of technology and creativity. Enthusiasts and curious minds are invited to join us for a celebration of digital innovation and artistic expression that has shaped our modern computing landscape. Tickets are available online\, along with additional information about the show’s lineup\, exhibits\, and workshops\, at www.vcfed.org. Don’t miss this unique opportunity to connect with the past and experience the pioneering spirit of computer history at VCF East. \nMore info available: \nVCF East
URL:https://www.infoage.org/event/vintage-computer-festival-east-3/
LOCATION:InfoAge Science & History Museums\, 2201 Marconi Road\, Wall\, NJ\, 07719
ATTACH;FMTTYPE=image/png:https://www.infoage.org/wp-content/uploads/2024/03/VCFEAST.png
ORGANIZER;CN="Vintage Computer Federation":MAILTO:info@vcfed.org
END:VEVENT
END:VCALENDAR